BEGIN:VCALENDAR
VERSION:2.0
PRODID:-//Business Mount Alexander - ECPv6.15.18//NONSGML v1.0//EN
CALSCALE:GREGORIAN
METHOD:PUBLISH
X-WR-CALNAME:Business Mount Alexander
X-ORIGINAL-URL:https://businessmountalexander.org.au
X-WR-CALDESC:Events for Business Mount Alexander
REFRESH-INTERVAL;VALUE=DURATION:PT1H
X-Robots-Tag:noindex
X-PUBLISHED-TTL:PT1H
BEGIN:VTIMEZONE
TZID:Australia/Melbourne
BEGIN:STANDARD
TZOFFSETFROM:+1100
TZOFFSETTO:+1000
TZNAME:AEST
DTSTART:20150404T160000
END:STANDARD
BEGIN:DAYLIGHT
TZOFFSETFROM:+1000
TZOFFSETTO:+1100
TZNAME:AEDT
DTSTART:20151003T160000
END:DAYLIGHT
BEGIN:STANDARD
TZOFFSETFROM:+1100
TZOFFSETTO:+1000
TZNAME:AEST
DTSTART:20160402T160000
END:STANDARD
BEGIN:DAYLIGHT
TZOFFSETFROM:+1000
TZOFFSETTO:+1100
TZNAME:AEDT
DTSTART:20161001T160000
END:DAYLIGHT
BEGIN:STANDARD
TZOFFSETFROM:+1100
TZOFFSETTO:+1000
TZNAME:AEST
DTSTART:20170401T160000
END:STANDARD
BEGIN:DAYLIGHT
TZOFFSETFROM:+1000
TZOFFSETTO:+1100
TZNAME:AEDT
DTSTART:20170930T160000
END:DAYLIGHT
END:VTIMEZONE
BEGIN:VEVENT
DTSTART;TZID=Australia/Melbourne:20161015T200000
DTEND;TZID=Australia/Melbourne:20161016T010000
DTSTAMP:20260422T052902
CREATED:20160919T223422Z
LAST-MODIFIED:20160919T223422Z
UID:463-1476561600-1476579600@businessmountalexander.org.au
SUMMARY:Castlemaine Community House Spring Ball 2016
DESCRIPTION:2016 Spring Ball is Castlemaine Community House’s 21st Ball! \nThis years theme is the fabulous 80’s (will it ever go out of fashion?) \nPerforming is all star band Plumz – a fabulous combination of very talented musicians from across the shire and beyond (think Castlemaine Idylllllllll Baaaaaaand!!!) and they will also have a lineup of guest singers. There will be food\, door prizes and guest DJ’s too.\n \nTicket will be on sale soon at the usual outlets – Green Goes\, Maine Shoes and at CCH reception from September but you can go online to our try booking page. \nhttps://www.trybooking.com/215847\nIn the meantime\, get your priorities straight and focus all your attention on what you’re going to wear! \n– get out the shoulder pads\, pull out the leg warmers and tease up the hair people!
URL:https://businessmountalexander.org.au/event/castlemaine-community-house-spring-ball-2016/
LOCATION:Town Hall\, Room 1\, Frederick Street\, Castlemaine\, 3450
CATEGORIES:Fundraiser
END:VEVENT
END:VCALENDAR