BEGIN:VCALENDAR
VERSION:2.0
PRODID:-//Business Mount Alexander - ECPv6.15.20//NONSGML v1.0//EN
CALSCALE:GREGORIAN
METHOD:PUBLISH
X-WR-CALNAME:Business Mount Alexander
X-ORIGINAL-URL:https://businessmountalexander.org.au
X-WR-CALDESC:Events for Business Mount Alexander
REFRESH-INTERVAL;VALUE=DURATION:PT1H
X-Robots-Tag:noindex
X-PUBLISHED-TTL:PT1H
BEGIN:VTIMEZONE
TZID:Australia/Melbourne
BEGIN:STANDARD
TZOFFSETFROM:+1100
TZOFFSETTO:+1000
TZNAME:AEST
DTSTART:20200404T160000
END:STANDARD
BEGIN:DAYLIGHT
TZOFFSETFROM:+1000
TZOFFSETTO:+1100
TZNAME:AEDT
DTSTART:20201003T160000
END:DAYLIGHT
BEGIN:STANDARD
TZOFFSETFROM:+1100
TZOFFSETTO:+1000
TZNAME:AEST
DTSTART:20210403T160000
END:STANDARD
BEGIN:DAYLIGHT
TZOFFSETFROM:+1000
TZOFFSETTO:+1100
TZNAME:AEDT
DTSTART:20211002T160000
END:DAYLIGHT
BEGIN:STANDARD
TZOFFSETFROM:+1100
TZOFFSETTO:+1000
TZNAME:AEST
DTSTART:20220402T160000
END:STANDARD
BEGIN:DAYLIGHT
TZOFFSETFROM:+1000
TZOFFSETTO:+1100
TZNAME:AEDT
DTSTART:20221001T160000
END:DAYLIGHT
END:VTIMEZONE
BEGIN:VEVENT
DTSTART;TZID=Australia/Melbourne:20211202T180000
DTEND;TZID=Australia/Melbourne:20211202T210000
DTSTAMP:20260426T111550
CREATED:20211028T063529Z
LAST-MODIFIED:20211028T083635Z
UID:1957-1638468000-1638478800@businessmountalexander.org.au
SUMMARY:Mount Alexander Business Awards
DESCRIPTION:Save the date for this year’s bi-annual Mount Alexander Business Awards on Thursday 2 December 2021 at the Castlemaine Town Hall. Congratulations to all nominees. Finalists will be announced soon. Come along to this wonder event to help celebrate business in the shire. \nDetails on how to book will be available soon. \n 
URL:https://businessmountalexander.org.au/event/mount-alexander-business-awards/
LOCATION:Castlemaine Town Hall\, 25 Lyttleton Street\, Castlemaine\, Vic\, 3450\, Australia
CATEGORIES:Forum
ATTACH;FMTTYPE=image/png:https://businessmountalexander.org.au/wp-content/uploads/2021/10/Awards-Banner.png
ORGANIZER;CN="Marg Barry":MAILTO:businessawards@mountalexander.vic.gov.au
END:VEVENT
END:VCALENDAR