BEGIN:VCALENDAR
VERSION:2.0
PRODID:-//Business Mount Alexander - ECPv6.15.20//NONSGML v1.0//EN
CALSCALE:GREGORIAN
METHOD:PUBLISH
X-ORIGINAL-URL:https://businessmountalexander.org.au
X-WR-CALDESC:Events for Business Mount Alexander
REFRESH-INTERVAL;VALUE=DURATION:PT1H
X-Robots-Tag:noindex
X-PUBLISHED-TTL:PT1H
BEGIN:VTIMEZONE
TZID:Australia/Melbourne
BEGIN:STANDARD
TZOFFSETFROM:+1100
TZOFFSETTO:+1000
TZNAME:AEST
DTSTART:20200404T160000
END:STANDARD
BEGIN:DAYLIGHT
TZOFFSETFROM:+1000
TZOFFSETTO:+1100
TZNAME:AEDT
DTSTART:20201003T160000
END:DAYLIGHT
BEGIN:STANDARD
TZOFFSETFROM:+1100
TZOFFSETTO:+1000
TZNAME:AEST
DTSTART:20210403T160000
END:STANDARD
BEGIN:DAYLIGHT
TZOFFSETFROM:+1000
TZOFFSETTO:+1100
TZNAME:AEDT
DTSTART:20211002T160000
END:DAYLIGHT
BEGIN:STANDARD
TZOFFSETFROM:+1100
TZOFFSETTO:+1000
TZNAME:AEST
DTSTART:20220402T160000
END:STANDARD
BEGIN:DAYLIGHT
TZOFFSETFROM:+1000
TZOFFSETTO:+1100
TZNAME:AEDT
DTSTART:20221001T160000
END:DAYLIGHT
END:VTIMEZONE
BEGIN:VEVENT
DTSTART;TZID=Australia/Melbourne:20210525T173000
DTEND;TZID=Australia/Melbourne:20210525T193000
DTSTAMP:20260426T014845
CREATED:20210511T025708Z
LAST-MODIFIED:20210511T025708Z
UID:897-1621963800-1621971000@businessmountalexander.org.au
SUMMARY:Social Drinks at Love Shack Brewery
DESCRIPTION:Join us for a casual networking drinks event and meet the inspiring brewers behind Love Shack Brewery. Since launching in December 2020\, Conna and Harri have been hard at work pumping out fresh frothies from the rear of the Theatre Royal and injecting great energy into the centre of town.\n\nCome taste the fruits of their endeavours and meet up with local business folk.\n\nLove Shack Brewery – side path to Theatre Royal\nTuesday 25 May | 5.30pm to 7.30pm\nAll welcome – drinks at bar prices\, canapes provided.\nRSVP: gen@businessmountalexander.org.au
URL:https://businessmountalexander.org.au/event/social-drinks-at-love-shack-brewery/
LOCATION:Theatre Royal\, 30 Hargreaves Street\, Castlemaine\, VIC\, 3450\, Australia
CATEGORIES:Forum
END:VEVENT
END:VCALENDAR