BEGIN:VCALENDAR
VERSION:2.0
PRODID:-//Business Mount Alexander - ECPv6.15.20//NONSGML v1.0//EN
CALSCALE:GREGORIAN
METHOD:PUBLISH
X-WR-CALNAME:Business Mount Alexander
X-ORIGINAL-URL:https://businessmountalexander.org.au
X-WR-CALDESC:Events for Business Mount Alexander
REFRESH-INTERVAL;VALUE=DURATION:PT1H
X-Robots-Tag:noindex
X-PUBLISHED-TTL:PT1H
BEGIN:VTIMEZONE
TZID:Australia/Melbourne
BEGIN:STANDARD
TZOFFSETFROM:+1100
TZOFFSETTO:+1000
TZNAME:AEST
DTSTART:20200404T160000
END:STANDARD
BEGIN:DAYLIGHT
TZOFFSETFROM:+1000
TZOFFSETTO:+1100
TZNAME:AEDT
DTSTART:20201003T160000
END:DAYLIGHT
BEGIN:STANDARD
TZOFFSETFROM:+1100
TZOFFSETTO:+1000
TZNAME:AEST
DTSTART:20210403T160000
END:STANDARD
BEGIN:DAYLIGHT
TZOFFSETFROM:+1000
TZOFFSETTO:+1100
TZNAME:AEDT
DTSTART:20211002T160000
END:DAYLIGHT
BEGIN:STANDARD
TZOFFSETFROM:+1100
TZOFFSETTO:+1000
TZNAME:AEST
DTSTART:20220402T160000
END:STANDARD
BEGIN:DAYLIGHT
TZOFFSETFROM:+1000
TZOFFSETTO:+1100
TZNAME:AEDT
DTSTART:20221001T160000
END:DAYLIGHT
END:VTIMEZONE
BEGIN:VEVENT
DTSTART;TZID=Australia/Melbourne:20210514T063000
DTEND;TZID=Australia/Melbourne:20210514T083000
DTSTAMP:20260426T015305
CREATED:20210511T093712Z
LAST-MODIFIED:20210511T093712Z
UID:907-1620973800-1620981000@businessmountalexander.org.au
SUMMARY:HALT Save Your Bacon Brekky
DESCRIPTION:HALT Breakfast Event this Friday \n\n\nSAVE YOUR BACON free coffee and BBQ brekky at KT’s coffee van outside The Snip\, 236 Barker Street\, Castlemaine.\n\n\nThis Friday 14 May at 6.30am to 8.30am\n\n\n A FREE event!
URL:https://businessmountalexander.org.au/event/halt-save-your-bacon-brekky/
LOCATION:KTs Coffee Van\, 326 Barker Street\, Castlemaine\, Vic\, 3450
CATEGORIES:Forum
END:VEVENT
END:VCALENDAR