BEGIN:VCALENDAR
VERSION:2.0
PRODID:-//Business Mount Alexander - ECPv6.15.20//NONSGML v1.0//EN
CALSCALE:GREGORIAN
METHOD:PUBLISH
X-WR-CALNAME:Business Mount Alexander
X-ORIGINAL-URL:https://businessmountalexander.org.au
X-WR-CALDESC:Events for Business Mount Alexander
REFRESH-INTERVAL;VALUE=DURATION:PT1H
X-Robots-Tag:noindex
X-PUBLISHED-TTL:PT1H
BEGIN:VTIMEZONE
TZID:Australia/Melbourne
BEGIN:STANDARD
TZOFFSETFROM:+1100
TZOFFSETTO:+1000
TZNAME:AEST
DTSTART:20190406T160000
END:STANDARD
BEGIN:DAYLIGHT
TZOFFSETFROM:+1000
TZOFFSETTO:+1100
TZNAME:AEDT
DTSTART:20191005T160000
END:DAYLIGHT
BEGIN:STANDARD
TZOFFSETFROM:+1100
TZOFFSETTO:+1000
TZNAME:AEST
DTSTART:20200404T160000
END:STANDARD
BEGIN:DAYLIGHT
TZOFFSETFROM:+1000
TZOFFSETTO:+1100
TZNAME:AEDT
DTSTART:20201003T160000
END:DAYLIGHT
BEGIN:STANDARD
TZOFFSETFROM:+1100
TZOFFSETTO:+1000
TZNAME:AEST
DTSTART:20210403T160000
END:STANDARD
BEGIN:DAYLIGHT
TZOFFSETFROM:+1000
TZOFFSETTO:+1100
TZNAME:AEDT
DTSTART:20211002T160000
END:DAYLIGHT
END:VTIMEZONE
BEGIN:VEVENT
DTSTART;TZID=Australia/Melbourne:20201008T193000
DTEND;TZID=Australia/Melbourne:20201008T210000
DTSTAMP:20260425T210336
CREATED:20201006T014943Z
LAST-MODIFIED:20201009T085226Z
UID:855-1602185400-1602190800@businessmountalexander.org.au
SUMMARY:Meet the Candidates 2020
DESCRIPTION:Business Mount Alexander\, in partnership with Shedshaker Brewing\, are pleased to host a virtual ‘Meet the Candidates Forum’ on Thursday\, 8 October at 7.30pm. \nThis is a Q&A with the Castlemaine Ward candidates in the 2020 Mount Alexander Council elections\, live-streamed from The Taproom and hosted on the Business Mount Alexander + Castlemainia Facebook platforms. \nThis event will be formally MC’d and candidates will have the opportunity to introduce themselves and respond to pre-prepared questions submitted by the Mt Alexander community. \nN.B. due to COVID restrictions\, there will not be a live audience for this meeting. Questions (video/audio/text) for one or more candidates can be sent to: \ntaproom@shedshakerbrewing.com \nDoug and Jacqueline at The (Shedshaker) Taproom have been live streaming a diverse range of events over recent months and welcome the opportunity to provide this forum. \nBMA is excited to present this opportunity for community members to hear direct from our local candidates. How do they intend to support local business? What are their ideas to stimulate economic growth? How do we balance community safety with an anticipated increase in visitation from outside the Shire? Where are the jobs of the future coming from and how can Council support innovation? \nWe hope you can join us and will consider submitting a question of your own. \nThe recording is now available via YouTube and you can also view the recording on Facebook : Shedshaker Taproom; Business Mount Alexander & Castlemania (Group).
URL:https://businessmountalexander.org.au/event/meet-the-candidates-2020/
LOCATION:Online
CATEGORIES:Forum
END:VEVENT
END:VCALENDAR