BEGIN:VCALENDAR
VERSION:2.0
PRODID:-//Business Mount Alexander - ECPv6.15.20//NONSGML v1.0//EN
CALSCALE:GREGORIAN
METHOD:PUBLISH
X-WR-CALNAME:Business Mount Alexander
X-ORIGINAL-URL:https://businessmountalexander.org.au
X-WR-CALDESC:Events for Business Mount Alexander
REFRESH-INTERVAL;VALUE=DURATION:PT1H
X-Robots-Tag:noindex
X-PUBLISHED-TTL:PT1H
BEGIN:VTIMEZONE
TZID:Australia/Melbourne
BEGIN:STANDARD
TZOFFSETFROM:+1100
TZOFFSETTO:+1000
TZNAME:AEST
DTSTART:20180331T160000
END:STANDARD
BEGIN:DAYLIGHT
TZOFFSETFROM:+1000
TZOFFSETTO:+1100
TZNAME:AEDT
DTSTART:20181006T160000
END:DAYLIGHT
BEGIN:STANDARD
TZOFFSETFROM:+1100
TZOFFSETTO:+1000
TZNAME:AEST
DTSTART:20190406T160000
END:STANDARD
BEGIN:DAYLIGHT
TZOFFSETFROM:+1000
TZOFFSETTO:+1100
TZNAME:AEDT
DTSTART:20191005T160000
END:DAYLIGHT
BEGIN:STANDARD
TZOFFSETFROM:+1100
TZOFFSETTO:+1000
TZNAME:AEST
DTSTART:20200404T160000
END:STANDARD
BEGIN:DAYLIGHT
TZOFFSETFROM:+1000
TZOFFSETTO:+1100
TZNAME:AEDT
DTSTART:20201003T160000
END:DAYLIGHT
END:VTIMEZONE
BEGIN:VEVENT
DTSTART;TZID=Australia/Melbourne:20190920T073000
DTEND;TZID=Australia/Melbourne:20190920T090000
DTSTAMP:20260425T132517
CREATED:20190911T072149Z
LAST-MODIFIED:20190911T072149Z
UID:818-1568964600-1568970000@businessmountalexander.org.au
SUMMARY:Networking Breakfast - Harcourt Produce & General Store
DESCRIPTION:Next Friday\, join us for a networking breakfast at the newly opened General Store in Harcourt. A chance to see experience this local cafe that has been beautifully renovated and decorated\, plus catch up with other business people from around the shire\, including the BMA Committee. \nIt will be pay your own way – more details to come regarding menu choices. \nRSVP – gen@businessmountalexander.org.au
URL:https://businessmountalexander.org.au/event/networking-breakfast-harcourt-produce-general-store/
LOCATION:Harcourt Produce & General Store\, 115 Harmony Way\, Harcourt\, Vic\, 3453
CATEGORIES:Forum
END:VEVENT
END:VCALENDAR