BEGIN:VCALENDAR
VERSION:2.0
PRODID:-//Business Mount Alexander - ECPv6.15.20//NONSGML v1.0//EN
CALSCALE:GREGORIAN
METHOD:PUBLISH
X-WR-CALNAME:Business Mount Alexander
X-ORIGINAL-URL:https://businessmountalexander.org.au
X-WR-CALDESC:Events for Business Mount Alexander
REFRESH-INTERVAL;VALUE=DURATION:PT1H
X-Robots-Tag:noindex
X-PUBLISHED-TTL:PT1H
BEGIN:VTIMEZONE
TZID:Australia/Melbourne
BEGIN:STANDARD
TZOFFSETFROM:+1100
TZOFFSETTO:+1000
TZNAME:AEST
DTSTART:20180331T160000
END:STANDARD
BEGIN:DAYLIGHT
TZOFFSETFROM:+1000
TZOFFSETTO:+1100
TZNAME:AEDT
DTSTART:20181006T160000
END:DAYLIGHT
BEGIN:STANDARD
TZOFFSETFROM:+1100
TZOFFSETTO:+1000
TZNAME:AEST
DTSTART:20190406T160000
END:STANDARD
BEGIN:DAYLIGHT
TZOFFSETFROM:+1000
TZOFFSETTO:+1100
TZNAME:AEDT
DTSTART:20191005T160000
END:DAYLIGHT
BEGIN:STANDARD
TZOFFSETFROM:+1100
TZOFFSETTO:+1000
TZNAME:AEST
DTSTART:20200404T160000
END:STANDARD
BEGIN:DAYLIGHT
TZOFFSETFROM:+1000
TZOFFSETTO:+1100
TZNAME:AEDT
DTSTART:20201003T160000
END:DAYLIGHT
END:VTIMEZONE
BEGIN:VEVENT
DTSTART;TZID=Australia/Melbourne:20190710T183000
DTEND;TZID=Australia/Melbourne:20190710T200000
DTSTAMP:20260425T081650
CREATED:20190618T031014Z
LAST-MODIFIED:20190618T031014Z
UID:803-1562783400-1562788800@businessmountalexander.org.au
SUMMARY:Annual General Meeting - BMA
DESCRIPTION:The Committee of Business Mount Alexander Inc recently met to discuss the future of the business association. The Executive have expressed their intention to step down from their roles at the next Annual General Meeting\, set for 10 July. Expressions of Interest are sought for a new BMA Committee. \nIf you’d like to join or know of someone who might\, please get in touch with gen@businessmountalexander.org.au for more information. \nNibbles and refreshments will be supplied and there will be an opportunity for informal networking.
URL:https://businessmountalexander.org.au/event/annual-general-meeting-bma/
LOCATION:We Push Buttons Studio\, Level 1\, 12-18 Hargraves Street\, Castlemaine\, Vic\, 3450
CATEGORIES:Forum
END:VEVENT
END:VCALENDAR