BEGIN:VCALENDAR
VERSION:2.0
PRODID:-//Business Mount Alexander - ECPv6.15.20//NONSGML v1.0//EN
CALSCALE:GREGORIAN
METHOD:PUBLISH
X-ORIGINAL-URL:https://businessmountalexander.org.au
X-WR-CALDESC:Events for Business Mount Alexander
REFRESH-INTERVAL;VALUE=DURATION:PT1H
X-Robots-Tag:noindex
X-PUBLISHED-TTL:PT1H
BEGIN:VTIMEZONE
TZID:Australia/Melbourne
BEGIN:STANDARD
TZOFFSETFROM:+1100
TZOFFSETTO:+1000
TZNAME:AEST
DTSTART:20170401T160000
END:STANDARD
BEGIN:DAYLIGHT
TZOFFSETFROM:+1000
TZOFFSETTO:+1100
TZNAME:AEDT
DTSTART:20170930T160000
END:DAYLIGHT
BEGIN:STANDARD
TZOFFSETFROM:+1100
TZOFFSETTO:+1000
TZNAME:AEST
DTSTART:20180331T160000
END:STANDARD
BEGIN:DAYLIGHT
TZOFFSETFROM:+1000
TZOFFSETTO:+1100
TZNAME:AEDT
DTSTART:20181006T160000
END:DAYLIGHT
BEGIN:STANDARD
TZOFFSETFROM:+1100
TZOFFSETTO:+1000
TZNAME:AEST
DTSTART:20190406T160000
END:STANDARD
BEGIN:DAYLIGHT
TZOFFSETFROM:+1000
TZOFFSETTO:+1100
TZNAME:AEDT
DTSTART:20191005T160000
END:DAYLIGHT
END:VTIMEZONE
BEGIN:VEVENT
DTSTART;TZID=Australia/Melbourne:20180227T074500
DTEND;TZID=Australia/Melbourne:20180227T091500
DTSTAMP:20260425T210517
CREATED:20180207T072918Z
LAST-MODIFIED:20180216T062943Z
UID:724-1519717500-1519722900@businessmountalexander.org.au
SUMMARY:Cafe Re-PUBLIC Networking Breakfast
DESCRIPTION:Join us for breakfast at Cafe re-PUBLIC on Templeton St\, Castlemaine to kick off the year of Business Mount Alexander events! \nNot only will you get to meet and chat with like-minded business folk\, there will be door prizes PLUS hear from David Perrin\, owner of Public Inn\, talk about things he’s learnt when running businesses in the shire. \nIt’s pay your own way for food and drinks – a set menu will be provided. There will also be a complimentary fruit platter. \nRSVP to gen@businessmountalexander.org.au
URL:https://businessmountalexander.org.au/event/cafe-re-public-networking-breakfast/
LOCATION:Cafe re-PUBLIC\, 26A Templeton Street\, Castlemaine\, Vic\, 3450\, Australia
CATEGORIES:Forum
END:VEVENT
END:VCALENDAR