BEGIN:VCALENDAR
VERSION:2.0
PRODID:-//Business Mount Alexander - ECPv6.15.20//NONSGML v1.0//EN
CALSCALE:GREGORIAN
METHOD:PUBLISH
X-ORIGINAL-URL:https://businessmountalexander.org.au
X-WR-CALDESC:Events for Business Mount Alexander
REFRESH-INTERVAL;VALUE=DURATION:PT1H
X-Robots-Tag:noindex
X-PUBLISHED-TTL:PT1H
BEGIN:VTIMEZONE
TZID:Australia/Melbourne
BEGIN:STANDARD
TZOFFSETFROM:+1100
TZOFFSETTO:+1000
TZNAME:AEST
DTSTART:20160402T160000
END:STANDARD
BEGIN:DAYLIGHT
TZOFFSETFROM:+1000
TZOFFSETTO:+1100
TZNAME:AEDT
DTSTART:20161001T160000
END:DAYLIGHT
BEGIN:STANDARD
TZOFFSETFROM:+1100
TZOFFSETTO:+1000
TZNAME:AEST
DTSTART:20170401T160000
END:STANDARD
BEGIN:DAYLIGHT
TZOFFSETFROM:+1000
TZOFFSETTO:+1100
TZNAME:AEDT
DTSTART:20170930T160000
END:DAYLIGHT
BEGIN:STANDARD
TZOFFSETFROM:+1100
TZOFFSETTO:+1000
TZNAME:AEST
DTSTART:20180331T160000
END:STANDARD
BEGIN:DAYLIGHT
TZOFFSETFROM:+1000
TZOFFSETTO:+1100
TZNAME:AEDT
DTSTART:20181006T160000
END:DAYLIGHT
END:VTIMEZONE
BEGIN:VEVENT
DTSTART;TZID=Australia/Melbourne:20170816T173000
DTEND;TZID=Australia/Melbourne:20170816T220000
DTSTAMP:20260426T111152
CREATED:20170730T105220Z
LAST-MODIFIED:20170801T055509Z
UID:622-1502904600-1502920800@businessmountalexander.org.au
SUMMARY:Mt Alexander Business Awards Celebration
DESCRIPTION:Join us at the Mount Alexander Business Awards ceremony\, which will kick off with drinks at 5.30pm on Wednesday 16 August at the Castlemaine Town Hall\, Lyttleton Street\, Castlemaine. \nAustralian broadcaster and journalist Tracee Hutchison will be your host for the evening. Guest speaker is Bendigo business woman Margo Spalding\, renowned for establishing the successful Jimmy Possum Furniture. \n“The evening will showcase many of our business leaders in Mount Alexander Shire\,” said David Leathem\, Manager Economy and Culture\, Mount Alexander Shire Council. \n“Guests will also get the chance to talk with Margot and to network with some of the best in the industry\,” he said. \nFinalists and winners are chosen by an independent judging panel\, who have recently been visiting the shortlisted businesses in late July. The winners of each of the six categories will go in the running for the coveted Business of the Year award and $2\,000 prize money. \nThe Mount Alexander Business Awards are run in partnership with Maldon & District Community Bank® and The Midland Express/Castlemaine Mail. The awards are supported by Business Mount Alexander\, Maldon Inc.\, Regional Development Victoria and Workspace Australia as individual award sponsors. \nThe cost for tickets is $35 with drinks and canapes provided. To book visit www.stickytickets.com.au/55814
URL:https://businessmountalexander.org.au/event/mt-alexander-business-awards-celebration/
LOCATION:Castlemaine Town Hall\, 25 Lyttleton Street\, Castlemaine\, Vic\, 3450\, Australia
CATEGORIES:Forum
ORGANIZER;CN="Eva Parkin":MAILTO:e.parkin@mountalexander.vic.gov.au
END:VEVENT
END:VCALENDAR