BEGIN:VCALENDAR
VERSION:2.0
PRODID:-//Business Mount Alexander - ECPv6.15.20//NONSGML v1.0//EN
CALSCALE:GREGORIAN
METHOD:PUBLISH
X-ORIGINAL-URL:https://businessmountalexander.org.au
X-WR-CALDESC:Events for Business Mount Alexander
REFRESH-INTERVAL;VALUE=DURATION:PT1H
X-Robots-Tag:noindex
X-PUBLISHED-TTL:PT1H
BEGIN:VTIMEZONE
TZID:Australia/Melbourne
BEGIN:STANDARD
TZOFFSETFROM:+1100
TZOFFSETTO:+1000
TZNAME:AEST
DTSTART:20200404T160000
END:STANDARD
BEGIN:DAYLIGHT
TZOFFSETFROM:+1000
TZOFFSETTO:+1100
TZNAME:AEDT
DTSTART:20201003T160000
END:DAYLIGHT
BEGIN:STANDARD
TZOFFSETFROM:+1100
TZOFFSETTO:+1000
TZNAME:AEST
DTSTART:20210403T160000
END:STANDARD
BEGIN:DAYLIGHT
TZOFFSETFROM:+1000
TZOFFSETTO:+1100
TZNAME:AEDT
DTSTART:20211002T160000
END:DAYLIGHT
BEGIN:STANDARD
TZOFFSETFROM:+1100
TZOFFSETTO:+1000
TZNAME:AEST
DTSTART:20220402T160000
END:STANDARD
BEGIN:DAYLIGHT
TZOFFSETFROM:+1000
TZOFFSETTO:+1100
TZNAME:AEDT
DTSTART:20221001T160000
END:DAYLIGHT
END:VTIMEZONE
BEGIN:VEVENT
DTSTART;TZID=Australia/Melbourne:20211012T180000
DTEND;TZID=Australia/Melbourne:20211012T190000
DTSTAMP:20260426T111134
CREATED:20211016T012036Z
LAST-MODIFIED:20211016T012036Z
UID:1795-1634061600-1634065200@businessmountalexander.org.au
SUMMARY:Business Mount Alexander Retailers Forum
DESCRIPTION:Join BMA for a Retailers Forums and help formulate a plan to increase economic spend in our Shire. \nWhat are your pressing concerns as a retailer in our Shire?\nHow can BMA work with you to help achieve your business goals?\nWhat messages can we convey on your behalf to council to support our local traders?\nWhat initiatives can be implemented for the Christmas / holiday season? \nThis is a free event with refreshments available at the bar.
URL:https://businessmountalexander.org.au/event/business-mount-alexander-retailers-forum/
LOCATION:The Taproom\, 1-9 Walker Street\, Castlemaine\, 3450\, Australia
CATEGORIES:Forum
ATTACH;FMTTYPE=image/jpeg:https://businessmountalexander.org.au/wp-content/uploads/2021/10/retalers-forum.jpg
END:VEVENT
END:VCALENDAR