BEGIN:VCALENDAR
VERSION:2.0
PRODID:-//Business Mount Alexander - ECPv6.15.20//NONSGML v1.0//EN
CALSCALE:GREGORIAN
METHOD:PUBLISH
X-WR-CALNAME:Business Mount Alexander
X-ORIGINAL-URL:https://businessmountalexander.org.au
X-WR-CALDESC:Events for Business Mount Alexander
REFRESH-INTERVAL;VALUE=DURATION:PT1H
X-Robots-Tag:noindex
X-PUBLISHED-TTL:PT1H
BEGIN:VTIMEZONE
TZID:Australia/Melbourne
BEGIN:STANDARD
TZOFFSETFROM:+1100
TZOFFSETTO:+1000
TZNAME:AEST
DTSTART:20200404T160000
END:STANDARD
BEGIN:DAYLIGHT
TZOFFSETFROM:+1000
TZOFFSETTO:+1100
TZNAME:AEDT
DTSTART:20201003T160000
END:DAYLIGHT
BEGIN:STANDARD
TZOFFSETFROM:+1100
TZOFFSETTO:+1000
TZNAME:AEST
DTSTART:20210403T160000
END:STANDARD
BEGIN:DAYLIGHT
TZOFFSETFROM:+1000
TZOFFSETTO:+1100
TZNAME:AEDT
DTSTART:20211002T160000
END:DAYLIGHT
BEGIN:STANDARD
TZOFFSETFROM:+1100
TZOFFSETTO:+1000
TZNAME:AEST
DTSTART:20220402T160000
END:STANDARD
BEGIN:DAYLIGHT
TZOFFSETFROM:+1000
TZOFFSETTO:+1100
TZNAME:AEDT
DTSTART:20221001T160000
END:DAYLIGHT
END:VTIMEZONE
BEGIN:VEVENT
DTSTART;TZID=Australia/Melbourne:20210701T173000
DTEND;TZID=Australia/Melbourne:20210701T183000
DTSTAMP:20260426T061618
CREATED:20210622T041926Z
LAST-MODIFIED:20210622T042427Z
UID:1517-1625160600-1625164200@businessmountalexander.org.au
SUMMARY:Disability Access Guide Launch
DESCRIPTION:The Mount Alexander Shire Disability Advocacy Group and Business Mount Alexander invite local businesses and service providers on:\nThursday\, July 1st 2021\n5.30–6.30pm\nShedshaker Taproom @ The Mill\nto the launch of the Disability Access Guide for the Mount Alexander Shire. \nMASDAG\, with the financial support of Mount Alexander Shire\, has published an access guide that helps retailers and service providers increase their customer and client base by removing barriers that prevent them from enjoying local businesses and services. \nFor a variety of reasons\, people living with a disability can experience poor or reduced access to goods and services in our Shire. The Disability Access Guide provides a checklist for retailers and service providers as a guide to improving their business so that it includes everyone. \nPlease join us for drinks and nibbles and your copy of a document that will benefit your business. For bookings and further information\, ring MASDAG on 0439 964 179.
URL:https://businessmountalexander.org.au/event/disability-access-guide-launch/
LOCATION:The Taproom\, 1-9 Walker Street\, Castlemaine\, 3450\, Australia
CATEGORIES:Forum
END:VEVENT
END:VCALENDAR