BEGIN:VCALENDAR
VERSION:2.0
PRODID:-//Business Mount Alexander - ECPv6.15.20//NONSGML v1.0//EN
CALSCALE:GREGORIAN
METHOD:PUBLISH
X-ORIGINAL-URL:https://businessmountalexander.org.au
X-WR-CALDESC:Events for Business Mount Alexander
REFRESH-INTERVAL;VALUE=DURATION:PT1H
X-Robots-Tag:noindex
X-PUBLISHED-TTL:PT1H
BEGIN:VTIMEZONE
TZID:Australia/Melbourne
BEGIN:STANDARD
TZOFFSETFROM:+1100
TZOFFSETTO:+1000
TZNAME:AEST
DTSTART:20180331T160000
END:STANDARD
BEGIN:DAYLIGHT
TZOFFSETFROM:+1000
TZOFFSETTO:+1100
TZNAME:AEDT
DTSTART:20181006T160000
END:DAYLIGHT
BEGIN:STANDARD
TZOFFSETFROM:+1100
TZOFFSETTO:+1000
TZNAME:AEST
DTSTART:20190406T160000
END:STANDARD
BEGIN:DAYLIGHT
TZOFFSETFROM:+1000
TZOFFSETTO:+1100
TZNAME:AEDT
DTSTART:20191005T160000
END:DAYLIGHT
BEGIN:STANDARD
TZOFFSETFROM:+1100
TZOFFSETTO:+1000
TZNAME:AEST
DTSTART:20200404T160000
END:STANDARD
BEGIN:DAYLIGHT
TZOFFSETFROM:+1000
TZOFFSETTO:+1100
TZNAME:AEDT
DTSTART:20201003T160000
END:DAYLIGHT
END:VTIMEZONE
BEGIN:VEVENT
DTSTART;TZID=Australia/Melbourne:20191119T180000
DTEND;TZID=Australia/Melbourne:20191119T210000
DTSTAMP:20260425T130855
CREATED:20191112T061206Z
LAST-MODIFIED:20191112T061206Z
UID:839-1574186400-1574197200@businessmountalexander.org.au
SUMMARY:Healthy Business Event
DESCRIPTION:Come along to this special event at the Bridge Hotel to hear more about looking after yourself and your employees. Jeremy Forbes from HALT and a representative from CHIRP will be guest speakers on the night. \nIf you have always wanted to hear Jeremy speak about HALT\, but never had the opportunity\, come along. It’s also a great opportunity to find out what is happening with CHIRP and what services they deliver. \nFinger food provided and drinks at bar prices.
URL:https://businessmountalexander.org.au/event/healthy-business-event/
LOCATION:The Bridge Hotel\, 21-23 Walker Street\, Castlemaine\, Vic\, 3450\, Australia
CATEGORIES:Forum
END:VEVENT
END:VCALENDAR