BEGIN:VCALENDAR
VERSION:2.0
PRODID:-//Business Mount Alexander - ECPv6.15.20//NONSGML v1.0//EN
CALSCALE:GREGORIAN
METHOD:PUBLISH
X-ORIGINAL-URL:https://businessmountalexander.org.au
X-WR-CALDESC:Events for Business Mount Alexander
REFRESH-INTERVAL;VALUE=DURATION:PT1H
X-Robots-Tag:noindex
X-PUBLISHED-TTL:PT1H
BEGIN:VTIMEZONE
TZID:Australia/Melbourne
BEGIN:STANDARD
TZOFFSETFROM:+1100
TZOFFSETTO:+1000
TZNAME:AEST
DTSTART:20180331T160000
END:STANDARD
BEGIN:DAYLIGHT
TZOFFSETFROM:+1000
TZOFFSETTO:+1100
TZNAME:AEDT
DTSTART:20181006T160000
END:DAYLIGHT
BEGIN:STANDARD
TZOFFSETFROM:+1100
TZOFFSETTO:+1000
TZNAME:AEST
DTSTART:20190406T160000
END:STANDARD
BEGIN:DAYLIGHT
TZOFFSETFROM:+1000
TZOFFSETTO:+1100
TZNAME:AEDT
DTSTART:20191005T160000
END:DAYLIGHT
BEGIN:STANDARD
TZOFFSETFROM:+1100
TZOFFSETTO:+1000
TZNAME:AEST
DTSTART:20200404T160000
END:STANDARD
BEGIN:DAYLIGHT
TZOFFSETFROM:+1000
TZOFFSETTO:+1100
TZNAME:AEDT
DTSTART:20201003T160000
END:DAYLIGHT
END:VTIMEZONE
BEGIN:VEVENT
DTSTART;TZID=Australia/Melbourne:20190823T170000
DTEND;TZID=Australia/Melbourne:20190823T173000
DTSTAMP:20260425T100500
CREATED:20190812T064729Z
LAST-MODIFIED:20190812T064729Z
UID:810-1566579600-1566581400@businessmountalexander.org.au
SUMMARY:BMA Special General Meeting
DESCRIPTION:Notice of Special Meeting \nA request has been made and accepted to hold a Special General Meeting for the following purposes: \n\nElection of new committee and executive roles\n\nIt has been identified that the membership of five of the committee members elected at the AGM (10 July) had not been fully processed. This process will be complete by 23 August and therefore\, as per the Model Rules for the association\, all five will be eligible for election to the committee. Consequently\, we will re-elect the Committee and Executive for BMA at the Special General Meeting so that due process is upheld. \n\nMembership fees \n\nThe committee has proposed that we implement a flat rate of $120 per annum\, but only charge the fee for a maximum of 6 months (i.e $60) this financial year. We will vote on this at the SGM. \nThe meeting will be held at: \nThe Taproom on 23 August at 5:00pm \nA minimum of ten members are required to form a quorum\, so we ask that you please confirm your attendance at this meeting by emailing gen@businessmountalexander.org.au
URL:https://businessmountalexander.org.au/event/bma-special-general-meeting/
LOCATION:The Taproom\, 1-9 Walker Street\, Castlemaine\, 3450\, Australia
CATEGORIES:Forum
END:VEVENT
BEGIN:VEVENT
DTSTART;TZID=Australia/Melbourne:20190823T173000
DTEND;TZID=Australia/Melbourne:20190823T183000
DTSTAMP:20260425T100500
CREATED:20190812T070811Z
LAST-MODIFIED:20190812T070900Z
UID:812-1566581400-1566585000@businessmountalexander.org.au
SUMMARY:After 5 Networking Drinks
DESCRIPTION:BMA is hosting our next After 5 social drinks night at The Taproom on Friday 23 August. Please join us and meet other local people in business\, chat with the new BMA Committee and share your ideas about succeeding in business. \nEva Parkin (Economic Development/MASC) will give a five minute spiel about next year’s Mount Alexander Business Awards. \nPizza/snacks provided. Drinks at bar prices. All welcome! \nStay on for live music from 8pm with Chris Harold \nRSVP – gen@businessmountalexander.org.au
URL:https://businessmountalexander.org.au/event/after-5-networking-drinks-2/
LOCATION:The Taproom\, 1-9 Walker Street\, Castlemaine\, 3450\, Australia
CATEGORIES:Forum
END:VEVENT
END:VCALENDAR