BEGIN:VCALENDAR
VERSION:2.0
PRODID:-//Business Mount Alexander - ECPv6.15.20//NONSGML v1.0//EN
CALSCALE:GREGORIAN
METHOD:PUBLISH
X-ORIGINAL-URL:https://businessmountalexander.org.au
X-WR-CALDESC:Events for Business Mount Alexander
REFRESH-INTERVAL;VALUE=DURATION:PT1H
X-Robots-Tag:noindex
X-PUBLISHED-TTL:PT1H
BEGIN:VTIMEZONE
TZID:Australia/Melbourne
BEGIN:STANDARD
TZOFFSETFROM:+1100
TZOFFSETTO:+1000
TZNAME:AEST
DTSTART:20170401T160000
END:STANDARD
BEGIN:DAYLIGHT
TZOFFSETFROM:+1000
TZOFFSETTO:+1100
TZNAME:AEDT
DTSTART:20170930T160000
END:DAYLIGHT
BEGIN:STANDARD
TZOFFSETFROM:+1100
TZOFFSETTO:+1000
TZNAME:AEST
DTSTART:20180331T160000
END:STANDARD
BEGIN:DAYLIGHT
TZOFFSETFROM:+1000
TZOFFSETTO:+1100
TZNAME:AEDT
DTSTART:20181006T160000
END:DAYLIGHT
BEGIN:STANDARD
TZOFFSETFROM:+1100
TZOFFSETTO:+1000
TZNAME:AEST
DTSTART:20190406T160000
END:STANDARD
BEGIN:DAYLIGHT
TZOFFSETFROM:+1000
TZOFFSETTO:+1100
TZNAME:AEDT
DTSTART:20191005T160000
END:DAYLIGHT
END:VTIMEZONE
BEGIN:VEVENT
DTSTART;TZID=Australia/Melbourne:20180816T170000
DTEND;TZID=Australia/Melbourne:20180816T190000
DTSTAMP:20260425T113825
CREATED:20180807T014354Z
LAST-MODIFIED:20180807T014354Z
UID:775-1534438800-1534446000@businessmountalexander.org.au
SUMMARY:After 5 Networking Drinks
DESCRIPTION:It’s been awhile since the business community caught up for a social drink. Business Mount Alexander is running this event at The Taproom for people to come along and meet other people running or working in business in the Mt Alexander shire. \nAlso a chance to meet the BMA committee and share your ideas about succeeding in business. \nSnacks provided. Drinks at bar prices. Queries to Genevieve via gen@businessmountalexander.org.au\nAll welcome! \nOh\, and stay on for the MainFM Trivia from 7pm!
URL:https://businessmountalexander.org.au/event/after-5-networking-drinks/
LOCATION:The Taproom\, 1-9 Walker Street\, Castlemaine\, 3450\, Australia
CATEGORIES:Forum
END:VEVENT
END:VCALENDAR