BEGIN:VCALENDAR
VERSION:2.0
PRODID:-//Business Mount Alexander - ECPv4.8.1//NONSGML v1.0//EN
CALSCALE:GREGORIAN
METHOD:PUBLISH
X-WR-CALNAME:Business Mount Alexander
X-ORIGINAL-URL:http://businessmountalexander.org.au
X-WR-CALDESC:Events for Business Mount Alexander
BEGIN:VEVENT
DTSTART;TZID=Australia/Melbourne:20180305T093000
DTEND;TZID=Australia/Melbourne:20180305T130000
DTSTAMP:20190301T045133
CREATED:20180228T024854Z
LAST-MODIFIED:20180228T024854Z
UID:739-1520242200-1520254800@businessmountalexander.org.au
SUMMARY:Effective Business Practices Workshop
DESCRIPTION:Small Business Workshop\nWhen:  9.15am (for a 9.30am start) – 1.00pm\, Monday 5 March (this is a new morning timeslot in response to the recent business workshop survey)\nWhere: Civic Centre\, Council Chambers\, Cnr Lyttleton and Lloyd Streets\, Castlemaine\nCost:    $30.00 \nConsistency keeps customers coming back. Make sure you’ve got the right systems and practices in place to ensure your business delivers consistent products and services first time\, every time – from the get go. \nWhether you are an existing business owner or about to start\, this workshop will help you to not only run your business day to day\, but ensure you’re ready to ramp up for tomorrow’s success. \nYOU WILL LEARN HOW TO: \n\nStress test your current processes and systems\nDeliver efficiencies across eight core areas\nGet across risk management\nSimplify financial management and record keeping\nSteamline your customer experience\nGet on top of key compliance issues\nBuild your own action plan of next steps\nAccess tools\, templates\, support and resources in future\n\nYOUR PRESENTER: Bill Winter\nBill’s business experience is remarkable for its diversity; from CEO and advisory board member to highly renowned facilitator and business mentor. He specialises in helping small business implement the right structures to manage change. Bill’s area of expertise include family businesses\, start-ups\, executive coaching\, mentoring and the Not-for-Profit sector. \n
URL:http://businessmountalexander.org.au/event/effective-business-practices-workshop/
LOCATION:Council Chambers at the Civic Centre\, Corner Lyttleton and Lloyd streets\, Castlemaine
CATEGORIES:Forum
ORGANIZER;CN="Eva%20Parkin":MAILTO:e.parkin@mountalexander.vic.gov.au
END:VEVENT
END:VCALENDAR