BEGIN:VCALENDAR
VERSION:2.0
PRODID:-//Business Mount Alexander - ECPv4.8.1//NONSGML v1.0//EN
CALSCALE:GREGORIAN
METHOD:PUBLISH
X-WR-CALNAME:Business Mount Alexander
X-ORIGINAL-URL:http://businessmountalexander.org.au
X-WR-CALDESC:Events for Business Mount Alexander
BEGIN:VEVENT
DTSTART;TZID=Australia/Melbourne:20180806T093000
DTEND;TZID=Australia/Melbourne:20180806T130000
DTSTAMP:20190301T042202
CREATED:20180716T041910Z
LAST-MODIFIED:20180716T041910Z
UID:772-1533547800-1533560400@businessmountalexander.org.au
SUMMARY:Advanced Marketing: How to make your strategy work smarter
DESCRIPTION:The Mount Alexander Shire Council small business workshops are delivered in partnership with Small Business Victoria and are SO popular that they usually sell out days or even weeks before. \nTheir August workshop\, Advanced Marketing is no exception. There’s only two tickets remaining. If you want to make your marketing strategy work harder\, jump on the booking link and reserve the last two tickets to this fast paced and informative workshop. \nAre you ready to position your business at the next level? \nFind out how to boost your current marketing strategy and position your business for future growth at this hands-on workshop in August. \nThe Advanced Marketing workshop follows on from June’s Marketing workshop which was a big success and sold out days before hand. To avoid disappointment book your ticket and reserve your place. \nSmall Business Victoria workshops hosted by Mount Alexander Shire Council in Castlemaine are fast paced\, informative and interactive as well as being very affordable. \n
URL:http://businessmountalexander.org.au/event/advanced-marketing-how-to-make-your-strategy-work-smarter/
LOCATION:Council Chambers at the Civic Centre\, Corner Lyttleton and Lloyd streets\, Castlemaine
CATEGORIES:Workshops
ORGANIZER;CN="Eva%20Parkin":MAILTO:e.parkin@mountalexander.vic.gov.au
END:VEVENT
END:VCALENDAR